Package: igblastr Version: 0.99.23 Command: /Library/Frameworks/R.framework/Resources/bin/R CMD INSTALL igblastr StartedAt: 2025-10-24 15:11:26 -0400 (Fri, 24 Oct 2025) EndedAt: 2025-10-24 15:11:32 -0400 (Fri, 24 Oct 2025) EllapsedTime: 6.1 seconds RetCode: 0 Status: OK