Package: igblastr Version: 0.99.23 Command: /Library/Frameworks/R.framework/Resources/bin/R CMD build --keep-empty-dirs --no-resave-data igblastr StartedAt: 2025-10-24 16:46:14 -0400 (Fri, 24 Oct 2025) EndedAt: 2025-10-24 16:49:20 -0400 (Fri, 24 Oct 2025) EllapsedTime: 186.0 seconds RetCode: 0 Status: OK PackageFile: igblastr_0.99.23.tar.gz PackageFileSize: 4.137 MiB