Package: igblastr Version: 0.99.23 Command: rm -rf igblastr.buildbin-libdir && mkdir igblastr.buildbin-libdir && /Users/biocbuild/BBS/utils/build-universal.sh igblastr_0.99.23.tar.gz /Library/Frameworks/R.framework/Resources/bin/R igblastr.buildbin-libdir StartedAt: 2025-10-24 23:06:28 -0400 (Fri, 24 Oct 2025) EndedAt: 2025-10-24 23:06:35 -0400 (Fri, 24 Oct 2025) EllapsedTime: 7.1 seconds RetCode: 0 Status: OK PackageFile: igblastr_0.99.23.tgz PackageFileSize: 4.486 MiB