Package: idr2d Version: 1.21.0 Command: E:\biocbuild\bbs-3.21-bioc\R\bin\R.exe CMD INSTALL idr2d StartedAt: 2025-01-10 15:40:18 -0500 (Fri, 10 Jan 2025) EndedAt: 2025-01-10 15:40:59 -0500 (Fri, 10 Jan 2025) EllapsedTime: 41.8 seconds RetCode: 0 Status: OK