Package: idr2d Version: 1.23.1 Command: /home/biocbuild/bbs-3.22-bioc/R/bin/R CMD INSTALL idr2d StartedAt: 2025-10-03 15:30:27 -0400 (Fri, 03 Oct 2025) EndedAt: 2025-10-03 15:30:42 -0400 (Fri, 03 Oct 2025) EllapsedTime: 15.4 seconds RetCode: 0 Status: OK