Package: idr2d Version: 1.23.1 Command: /home/biocbuild/bbs-3.22-bioc/R/bin/R CMD build --keep-empty-dirs --no-resave-data --md5 idr2d StartedAt: 2025-10-03 18:08:58 -0400 (Fri, 03 Oct 2025) EndedAt: 2025-10-03 18:09:33 -0400 (Fri, 03 Oct 2025) EllapsedTime: 35.0 seconds RetCode: 0 Status: OK PackageFile: idr2d_1.23.1.tar.gz PackageFileSize: 1.507 MiB