Package: idr2d Version: 1.21.0 Command: /home/biocbuild/R/R/bin/R CMD INSTALL idr2d StartedAt: 2025-01-10 19:42:36 -0000 (Fri, 10 Jan 2025) EndedAt: 2025-01-10 19:42:56 -0000 (Fri, 10 Jan 2025) EllapsedTime: 20.0 seconds RetCode: 0 Status: OK