Package: idiogram Version: 1.85.0 Command: rm -rf idiogram.buildbin-libdir && mkdir idiogram.buildbin-libdir && F:\biocbuild\bbs-3.22-bioc\R\bin\R.exe CMD INSTALL --build --library=idiogram.buildbin-libdir idiogram_1.85.0.tar.gz StartedAt: 2025-08-15 10:29:43 -0400 (Fri, 15 Aug 2025) EndedAt: 2025-08-15 10:30:12 -0400 (Fri, 15 Aug 2025) EllapsedTime: 29.6 seconds RetCode: 0 Status: OK PackageFile: idiogram_1.85.0.zip PackageFileSize: 3.643 MiB