Package: ideal Version: 2.1.1 Command: rm -rf ideal.buildbin-libdir && mkdir ideal.buildbin-libdir && E:\biocbuild\bbs-3.21-bioc\R\bin\R.exe CMD INSTALL --build --library=ideal.buildbin-libdir ideal_2.1.1.tar.gz StartedAt: 2025-02-17 07:43:29 -0500 (Mon, 17 Feb 2025) EndedAt: 2025-02-17 07:44:38 -0500 (Mon, 17 Feb 2025) EllapsedTime: 68.8 seconds RetCode: 0 Status: OK PackageFile: ideal_2.1.1.zip PackageFileSize: 5.177 MiB