Package: icetea Version: 1.27.1 Command: /home/biocbuild/R/R/bin/R CMD build --keep-empty-dirs --no-resave-data icetea StartedAt: 2025-10-03 00:41:22 -0000 (Fri, 03 Oct 2025) EndedAt: 2025-10-03 00:43:34 -0000 (Fri, 03 Oct 2025) EllapsedTime: 132.1 seconds RetCode: 0 Status: OK PackageFile: icetea_1.27.1.tar.gz PackageFileSize: 663.3 KiB