Package: icetea Version: 1.27.1 Command: /home/biocbuild/bbs-3.22-bioc/R/bin/R CMD INSTALL icetea StartedAt: 2025-10-23 15:55:49 -0400 (Thu, 23 Oct 2025) EndedAt: 2025-10-23 15:56:40 -0400 (Thu, 23 Oct 2025) EllapsedTime: 50.5 seconds RetCode: 0 Status: OK