Package: icetea Version: 1.27.1 Command: /home/biocbuild/bbs-3.22-bioc/R/bin/R CMD build --keep-empty-dirs --no-resave-data --md5 icetea StartedAt: 2025-10-23 18:14:00 -0400 (Thu, 23 Oct 2025) EndedAt: 2025-10-23 18:15:42 -0400 (Thu, 23 Oct 2025) EllapsedTime: 102.2 seconds RetCode: 0 Status: OK PackageFile: icetea_1.27.1.tar.gz PackageFileSize: 790.4 KiB