Package: icetea Version: 1.27.0 Maintainer: Vivek Bhardwaj MaintainerEmail: v.bhardwaj at hubrecht.eu git_url: https://git.bioconductor.org/packages/icetea git_branch: devel git_last_commit: 03f40bf git_last_commit_date: 2025-04-15 11:34:40 -0400 (Tue, 15 Apr 2025)