Package: ibh Version: 1.57.0 Command: /Library/Frameworks/R.framework/Resources/bin/R CMD build --keep-empty-dirs --no-resave-data ibh StartedAt: 2025-05-22 17:06:04 -0400 (Thu, 22 May 2025) EndedAt: 2025-05-22 17:06:15 -0400 (Thu, 22 May 2025) EllapsedTime: 10.3 seconds RetCode: 0 Status: OK PackageFile: ibh_1.57.0.tar.gz PackageFileSize: 127.5 KiB