Package: iasva Version: 1.27.0 Command: F:\biocbuild\bbs-3.22-bioc\R\bin\R.exe CMD INSTALL iasva StartedAt: 2025-08-14 16:00:29 -0400 (Thu, 14 Aug 2025) EndedAt: 2025-08-14 16:00:56 -0400 (Thu, 14 Aug 2025) EllapsedTime: 26.4 seconds RetCode: 0 Status: OK