Package: iasva Version: 1.27.0 Maintainer: Donghyung Lee , Anthony Cheng MaintainerEmail: Anthony.Cheng at jax.org git_url: https://git.bioconductor.org/packages/iasva git_branch: devel git_last_commit: 212fbc2 git_last_commit_date: 2025-04-15 11:34:09 -0400 (Tue, 15 Apr 2025)