Package: iSeq Version: 1.59.0 Command: /Library/Frameworks/R.framework/Resources/bin/R CMD INSTALL iSeq StartedAt: 2025-01-10 15:01:28 -0500 (Fri, 10 Jan 2025) EndedAt: 2025-01-10 15:01:30 -0500 (Fri, 10 Jan 2025) EllapsedTime: 2.8 seconds RetCode: 0 Status: OK