Package: iSEEu Version: 1.21.0 Command: /home/biocbuild/bbs-3.22-bioc/R/bin/R CMD INSTALL iSEEu StartedAt: 2025-10-10 15:37:33 -0400 (Fri, 10 Oct 2025) EndedAt: 2025-10-10 15:38:08 -0400 (Fri, 10 Oct 2025) EllapsedTime: 35.4 seconds RetCode: 0 Status: OK