Package: iSEEu Version: 1.21.0 Command: /home/biocbuild/bbs-3.22-bioc/R/bin/R CMD build --keep-empty-dirs --no-resave-data --md5 iSEEu StartedAt: 2025-10-10 18:28:21 -0400 (Fri, 10 Oct 2025) EndedAt: 2025-10-10 18:29:53 -0400 (Fri, 10 Oct 2025) EllapsedTime: 92.1 seconds RetCode: 0 Status: OK PackageFile: iSEEu_1.21.0.tar.gz PackageFileSize: 1.622 MiB