Package: iSEEtree Version: 1.3.1 Command: /home/biocbuild/bbs-3.22-bioc/R/bin/R CMD INSTALL iSEEtree StartedAt: 2025-07-21 16:02:54 -0400 (Mon, 21 Jul 2025) EndedAt: 2025-07-21 16:03:40 -0400 (Mon, 21 Jul 2025) EllapsedTime: 45.3 seconds RetCode: 0 Status: OK