Package: iSEEtree Version: 1.3.1 Command: /home/biocbuild/bbs-3.22-bioc/R/bin/R CMD build --keep-empty-dirs --no-resave-data --md5 iSEEtree StartedAt: 2025-07-21 17:50:45 -0400 (Mon, 21 Jul 2025) EndedAt: 2025-07-21 17:51:54 -0400 (Mon, 21 Jul 2025) EllapsedTime: 69.1 seconds RetCode: 0 Status: OK PackageFile: iSEEtree_1.3.1.tar.gz PackageFileSize: 7.539 MiB