Package: iSEEpathways Version: 1.5.0 Maintainer: Kevin Rue-Albrecht MaintainerEmail: kevinrue67 at gmail.com git_url: https://git.bioconductor.org/packages/iSEEpathways git_branch: devel git_last_commit: d58f5a5 git_last_commit_date: 2024-10-29 11:23:29 -0500 (Tue, 29 Oct 2024)