Package: iSEEindex Version: 1.7.0 Command: /home/biocbuild/bbs-3.22-bioc/R/bin/R CMD INSTALL iSEEindex StartedAt: 2025-10-22 15:24:25 -0400 (Wed, 22 Oct 2025) EndedAt: 2025-10-22 15:24:59 -0400 (Wed, 22 Oct 2025) EllapsedTime: 34.0 seconds RetCode: 0 Status: OK