Package: iSEEhub Version: 1.11.0 Command: /home/biocbuild/bbs-3.22-bioc/R/bin/R CMD build --keep-empty-dirs --no-resave-data --md5 iSEEhub StartedAt: 2025-10-02 18:16:39 -0400 (Thu, 02 Oct 2025) EndedAt: 2025-10-02 18:17:34 -0400 (Thu, 02 Oct 2025) EllapsedTime: 55.0 seconds RetCode: 0 Status: OK PackageFile: iSEEhub_1.11.0.tar.gz PackageFileSize: 6.62 MiB