Package: iSEEhex Version: 1.11.0 Command: F:\biocbuild\bbs-3.22-bioc\R\bin\R.exe CMD INSTALL iSEEhex StartedAt: 2025-08-14 16:12:12 -0400 (Thu, 14 Aug 2025) EndedAt: 2025-08-14 16:12:55 -0400 (Thu, 14 Aug 2025) EllapsedTime: 43.7 seconds RetCode: 0 Status: OK