Package: iSEEhex Version: 1.11.0 Command: chmod a+r iSEEhex -R && F:\biocbuild\bbs-3.22-bioc\R\bin\R.exe CMD build --keep-empty-dirs --no-resave-data iSEEhex StartedAt: 2025-08-14 20:59:33 -0400 (Thu, 14 Aug 2025) EndedAt: 2025-08-14 21:00:49 -0400 (Thu, 14 Aug 2025) EllapsedTime: 76.6 seconds RetCode: 0 Status: OK PackageFile: iSEEhex_1.11.0.tar.gz PackageFileSize: 486.3 KiB