Package: iSEEhex Version: 1.11.0 Command: /home/biocbuild/bbs-3.22-bioc/R/bin/R CMD INSTALL iSEEhex StartedAt: 2025-10-22 15:24:24 -0400 (Wed, 22 Oct 2025) EndedAt: 2025-10-22 15:24:56 -0400 (Wed, 22 Oct 2025) EllapsedTime: 31.7 seconds RetCode: 0 Status: OK