Package: iSEEhex Version: 1.11.0 Command: /home/biocbuild/bbs-3.22-bioc/R/bin/R CMD build --keep-empty-dirs --no-resave-data --md5 iSEEhex StartedAt: 2025-10-22 18:18:39 -0400 (Wed, 22 Oct 2025) EndedAt: 2025-10-22 18:19:39 -0400 (Wed, 22 Oct 2025) EllapsedTime: 60.0 seconds RetCode: 0 Status: OK PackageFile: iSEEhex_1.11.0.tar.gz PackageFileSize: 486.7 KiB