Package: iSEEhex Version: 1.11.0 Command: /Library/Frameworks/R.framework/Resources/bin/R CMD build --keep-empty-dirs --no-resave-data iSEEhex StartedAt: 2025-09-29 17:26:31 -0400 (Mon, 29 Sep 2025) EndedAt: 2025-09-29 17:27:56 -0400 (Mon, 29 Sep 2025) EllapsedTime: 84.8 seconds RetCode: 0 Status: OK PackageFile: iSEEhex_1.11.0.tar.gz PackageFileSize: 486.2 KiB