Package: iSEEhex Version: 1.11.0 Command: rm -rf iSEEhex.buildbin-libdir && mkdir iSEEhex.buildbin-libdir && /Users/biocbuild/BBS/utils/build-universal.sh iSEEhex_1.11.0.tar.gz /Library/Frameworks/R.framework/Resources/bin/R iSEEhex.buildbin-libdir StartedAt: 2025-10-18 03:03:46 -0400 (Sat, 18 Oct 2025) EndedAt: 2025-10-18 03:04:33 -0400 (Sat, 18 Oct 2025) EllapsedTime: 47.2 seconds RetCode: 0 Status: OK PackageFile: iSEEhex_1.11.0.tgz PackageFileSize: 557.4 KiB