Package: iSEEhex Version: 1.9.0 Command: /home/biocbuild/R/R/bin/R CMD INSTALL iSEEhex StartedAt: 2025-01-29 20:11:13 -0000 (Wed, 29 Jan 2025) EndedAt: 2025-01-29 20:11:53 -0000 (Wed, 29 Jan 2025) EllapsedTime: 40.1 seconds RetCode: 0 Status: OK