Package: iSEEhex Version: 1.9.0 Command: rm -rf iSEEhex.buildbin-libdir && mkdir iSEEhex.buildbin-libdir && /Users/biocbuild/BBS/utils/build-universal.sh iSEEhex_1.9.0.tar.gz /Library/Frameworks/R.framework/Resources/bin/R iSEEhex.buildbin-libdir StartedAt: 2025-02-04 22:20:23 -0500 (Tue, 04 Feb 2025) EndedAt: 2025-02-04 22:20:36 -0500 (Tue, 04 Feb 2025) EllapsedTime: 13.3 seconds RetCode: 0 Status: OK PackageFile: iSEEhex_1.9.0.tgz PackageFileSize: 557.7 KiB