Package: iSEEfier Version: 1.5.0 Command: /home/biocbuild/bbs-3.22-bioc/R/bin/R CMD build --keep-empty-dirs --no-resave-data --md5 iSEEfier StartedAt: 2025-10-12 18:13:50 -0400 (Sun, 12 Oct 2025) EndedAt: 2025-10-12 18:15:05 -0400 (Sun, 12 Oct 2025) EllapsedTime: 75.1 seconds RetCode: 0 Status: OK PackageFile: iSEEfier_1.5.0.tar.gz PackageFileSize: 597.8 KiB