Package: iSEEde Version: 1.7.0 Command: /home/biocbuild/bbs-3.22-bioc/R/bin/R CMD INSTALL iSEEde StartedAt: 2025-10-16 16:29:40 -0400 (Thu, 16 Oct 2025) EndedAt: 2025-10-16 16:30:15 -0400 (Thu, 16 Oct 2025) EllapsedTime: 35.1 seconds RetCode: 0 Status: OK