Package: iSEEde Version: 1.7.0 Command: /home/biocbuild/bbs-3.22-bioc/R/bin/R CMD build --keep-empty-dirs --no-resave-data --md5 iSEEde StartedAt: 2025-10-16 19:17:13 -0400 (Thu, 16 Oct 2025) EndedAt: 2025-10-16 19:19:04 -0400 (Thu, 16 Oct 2025) EllapsedTime: 111.1 seconds RetCode: 0 Status: OK PackageFile: iSEEde_1.7.0.tar.gz PackageFileSize: 3.091 MiB