Package: iSEEde Version: 1.7.0 Command: rm -rf iSEEde.buildbin-libdir && mkdir iSEEde.buildbin-libdir && /Users/biocbuild/BBS/utils/build-universal.sh iSEEde_1.7.0.tar.gz /Library/Frameworks/R.framework/Resources/bin/R iSEEde.buildbin-libdir StartedAt: 2025-05-09 22:44:50 -0400 (Fri, 09 May 2025) EndedAt: 2025-05-09 22:45:06 -0400 (Fri, 09 May 2025) EllapsedTime: 16.4 seconds RetCode: 0 Status: OK PackageFile: iSEEde_1.7.0.tgz PackageFileSize: 2.419 MiB