Package: iSEE Version: 2.21.1 Command: rm -rf iSEE.buildbin-libdir && mkdir iSEE.buildbin-libdir && F:\biocbuild\bbs-3.22-bioc\R\bin\R.exe CMD INSTALL --build --library=iSEE.buildbin-libdir iSEE_2.21.1.tar.gz StartedAt: 2025-08-15 10:31:33 -0400 (Fri, 15 Aug 2025) EndedAt: 2025-08-15 10:34:39 -0400 (Fri, 15 Aug 2025) EllapsedTime: 186.6 seconds RetCode: 0 Status: OK PackageFile: iSEE_2.21.1.zip PackageFileSize: 22.47 MiB