Package: iSEE Version: 2.21.0 Maintainer: Kevin Rue-Albrecht MaintainerEmail: kevinrue67 at gmail.com git_url: https://git.bioconductor.org/packages/iSEE git_branch: devel git_last_commit: f34ad00 git_last_commit_date: 2025-04-15 11:19:34 -0400 (Tue, 15 Apr 2025)