Package: iPath Version: 1.13.0 Command: chmod a+r iPath -R && E:\biocbuild\bbs-3.21-bioc\R\bin\R.exe CMD build --keep-empty-dirs --no-resave-data iPath StartedAt: 2025-02-03 19:38:55 -0500 (Mon, 03 Feb 2025) EndedAt: 2025-02-03 19:40:01 -0500 (Mon, 03 Feb 2025) EllapsedTime: 66.8 seconds RetCode: 1 Status: ERROR PackageFile: None PackageFileSize: NA