Package: iPath Version: 1.13.0 Command: /Library/Frameworks/R.framework/Resources/bin/R CMD INSTALL iPath StartedAt: 2025-02-03 15:48:32 -0500 (Mon, 03 Feb 2025) EndedAt: 2025-02-03 15:48:55 -0500 (Mon, 03 Feb 2025) EllapsedTime: 22.9 seconds RetCode: 0 Status: OK