Package: iPath Version: 1.13.0 Command: /Library/Frameworks/R.framework/Resources/bin/R CMD check --install=check:iPath.install-out.txt --library=/Library/Frameworks/R.framework/Resources/library --no-vignettes --timings iPath_1.13.0.tar.gz StartedAt: 2025-02-03 21:14:00 -0500 (Mon, 03 Feb 2025) EndedAt: 2025-02-03 21:15:31 -0500 (Mon, 03 Feb 2025) EllapsedTime: 90.5 seconds RetCode: 1 Status: ERROR CheckDir: iPath.Rcheck Warnings: NA