Package: iNETgrate Version: 1.9.0 Command: /home/biocbuild/bbs-3.23-bioc/R/bin/R CMD INSTALL iNETgrate StartedAt: 2025-11-05 16:05:49 -0500 (Wed, 05 Nov 2025) EndedAt: 2025-11-05 16:06:50 -0500 (Wed, 05 Nov 2025) EllapsedTime: 60.8 seconds RetCode: 0 Status: OK