Package: iGC Version: 1.37.0 Command: /home/biocbuild/bbs-3.21-bioc/R/bin/R CMD INSTALL iGC StartedAt: 2025-02-04 15:03:26 -0500 (Tue, 04 Feb 2025) EndedAt: 2025-02-04 15:03:37 -0500 (Tue, 04 Feb 2025) EllapsedTime: 10.5 seconds RetCode: 0 Status: OK