Package: iGC Version: 1.37.0 Command: /home/biocbuild/bbs-3.21-bioc/R/bin/R CMD check --install=check:iGC.install-out.txt --library=/home/biocbuild/bbs-3.21-bioc/R/site-library --timings iGC_1.37.0.tar.gz StartedAt: 2025-02-09 23:17:18 -0500 (Sun, 09 Feb 2025) EndedAt: 2025-02-09 23:18:00 -0500 (Sun, 09 Feb 2025) EllapsedTime: 42.0 seconds RetCode: 0 Status: OK CheckDir: iGC.Rcheck Warnings: 0