Package: iGC Version: 1.37.0 Command: /home/biocbuild/R/R/bin/R CMD INSTALL iGC StartedAt: 2025-01-29 19:31:30 -0000 (Wed, 29 Jan 2025) EndedAt: 2025-01-29 19:32:06 -0000 (Wed, 29 Jan 2025) EllapsedTime: 35.8 seconds RetCode: 0 Status: OK