Package: iClusterPlus Version: 1.45.0 Maintainer: Qianxing Mo , Ronglai Shen MaintainerEmail: shenr at mskcc.org git_url: https://git.bioconductor.org/packages/iClusterPlus git_branch: devel git_last_commit: 8a946d2 git_last_commit_date: 2025-04-15 10:28:24 -0400 (Tue, 15 Apr 2025)