Package: iChip Version: 1.63.0 Command: chmod a+r iChip -R && F:\biocbuild\bbs-3.22-bioc\R\bin\R.exe CMD build --keep-empty-dirs --no-resave-data iChip StartedAt: 2025-08-14 20:52:08 -0400 (Thu, 14 Aug 2025) EndedAt: 2025-08-14 20:53:03 -0400 (Thu, 14 Aug 2025) EllapsedTime: 54.6 seconds RetCode: 0 Status: OK PackageFile: iChip_1.63.0.tar.gz PackageFileSize: 1.59 MiB