Package: iChip Version: 1.63.0 Command: rm -rf iChip.buildbin-libdir && mkdir iChip.buildbin-libdir && F:\biocbuild\bbs-3.22-bioc\R\bin\R.exe CMD INSTALL --build --library=iChip.buildbin-libdir iChip_1.63.0.tar.gz StartedAt: 2025-08-15 10:29:33 -0400 (Fri, 15 Aug 2025) EndedAt: 2025-08-15 10:29:47 -0400 (Fri, 15 Aug 2025) EllapsedTime: 14.4 seconds RetCode: 0 Status: OK PackageFile: iChip_1.63.0.zip PackageFileSize: 1.809 MiB