Package: iChip Version: 1.65.0 Command: /home/biocbuild/bbs-3.23-bioc/R/bin/R CMD build --keep-empty-dirs --no-resave-data iChip StartedAt: 2025-11-13 18:08:20 -0500 (Thu, 13 Nov 2025) EndedAt: 2025-11-13 18:08:50 -0500 (Thu, 13 Nov 2025) EllapsedTime: 30.0 seconds RetCode: 0 Status: OK PackageFile: iChip_1.65.0.tar.gz PackageFileSize: 1.709 MiB