Package: iCheck Version: 1.37.0 Command: E:\biocbuild\bbs-3.21-bioc\R\bin\R.exe CMD check --no-multiarch --install=check:iCheck.install-out.txt --library=E:\biocbuild\bbs-3.21-bioc\R\library --no-vignettes --timings iCheck_1.37.0.tar.gz StartedAt: 2025-02-17 01:53:59 -0500 (Mon, 17 Feb 2025) EndedAt: 2025-02-17 02:00:08 -0500 (Mon, 17 Feb 2025) EllapsedTime: 369.3 seconds RetCode: 0 Status: OK CheckDir: iCheck.Rcheck Warnings: 0